BEGIN:VCALENDAR
VERSION:2.0
PRODID:-//Colégio Efanor - ECPv6.15.20//NONSGML v1.0//EN
CALSCALE:GREGORIAN
METHOD:PUBLISH
X-WR-CALNAME:Colégio Efanor
X-ORIGINAL-URL:https://colegioefanor.pt
X-WR-CALDESC:Eventos para Colégio Efanor
REFRESH-INTERVAL;VALUE=DURATION:PT1H
X-Robots-Tag:noindex
X-PUBLISHED-TTL:PT1H
BEGIN:VTIMEZONE
TZID:UTC
BEGIN:STANDARD
TZOFFSETFROM:+0000
TZOFFSETTO:+0000
TZNAME:UTC
DTSTART:20250101T000000
END:STANDARD
END:VTIMEZONE
BEGIN:VEVENT
DTSTART;TZID=UTC:20260220T000000
DTEND;TZID=UTC:20260220T235900
DTSTAMP:20260421T220057
CREATED:20260220T093526Z
LAST-MODIFIED:20260303T114437Z
UID:29063-1771545600-1771631940@colegioefanor.pt
SUMMARY:Dia do Colégio
DESCRIPTION:Celebração do 17º aniversário da abertura do colégio. \nVer o calendário escolar
URL:https://colegioefanor.pt/event/dia-do-colegio/
CATEGORIES:Featured
ATTACH;FMTTYPE=image/jpeg:https://colegioefanor.pt/wp-content/uploads/2025/07/dd307-dsc08562-e1761086310718.jpg
END:VEVENT
BEGIN:VEVENT
DTSTART;VALUE=DATE:20260304
DTEND;VALUE=DATE:20260305
DTSTAMP:20260421T220057
CREATED:20260306T093009Z
LAST-MODIFIED:20260306T174610Z
UID:39924-1772586000-1772668799@colegioefanor.pt
SUMMARY:Visita de Estudo ao Tribunal Criminal de S. João Novo
DESCRIPTION:Assistência a uma Audiência por parte dos alunos do 12.º Ano de Direito.
URL:https://colegioefanor.pt/event/visita-de-estudo-ao-tribunal-criminal-de-s-joao-novo/
END:VEVENT
BEGIN:VEVENT
DTSTART;TZID=UTC:20260309T094500
DTEND;TZID=UTC:20260309T094500
DTSTAMP:20260421T220057
CREATED:20260306T093616Z
LAST-MODIFIED:20260306T174315Z
UID:40176-1773049500-1773049500@colegioefanor.pt
SUMMARY:Atividades de Expressão Motora no Parque das Sete Bicas
DESCRIPTION:Sala dos 4 Anos da Nelsa
URL:https://colegioefanor.pt/event/atividades-de-expressao-motora-no-parque-das-sete-bicas-2/
CATEGORIES:Featured
END:VEVENT
BEGIN:VEVENT
DTSTART;VALUE=DATE:20260310
DTEND;VALUE=DATE:20260311
DTSTAMP:20260421T220057
CREATED:20260306T095036Z
LAST-MODIFIED:20260306T175001Z
UID:40184-1773104400-1773136800@colegioefanor.pt
SUMMARY:3 em Projeto: Saída ao Parque João Villaret
DESCRIPTION:Salas dos 3 Anos da Luísa\, Marta e Sara
URL:https://colegioefanor.pt/event/3-em-projeto-saida-ao-parque-joao-villaret/
END:VEVENT
BEGIN:VEVENT
DTSTART;VALUE=DATE:20260310
DTEND;VALUE=DATE:20260311
DTSTAMP:20260421T220057
CREATED:20260306T094525Z
LAST-MODIFIED:20260306T174947Z
UID:40180-1773104400-1773187199@colegioefanor.pt
SUMMARY:Hora da Família: "As emoções"
DESCRIPTION:Sala dos 3 Anos da Marta
URL:https://colegioefanor.pt/event/hora-da-familia-as-emocoes/
END:VEVENT
BEGIN:VEVENT
DTSTART;TZID=UTC:20260311T093000
DTEND;TZID=UTC:20260311T093000
DTSTAMP:20260421T220057
CREATED:20260306T095513Z
LAST-MODIFIED:20260306T175020Z
UID:40189-1773221400-1773221400@colegioefanor.pt
SUMMARY:Atividades de Expressão Motora no Parque das Sete Bicas
DESCRIPTION:Sala dos 5 Anos da Sílvia
URL:https://colegioefanor.pt/event/atividades-de-expressao-motora-no-parque-das-sete-bicas/
END:VEVENT
BEGIN:VEVENT
DTSTART;TZID=UTC:20260312T091500
DTEND;TZID=UTC:20260312T091500
DTSTAMP:20260421T220057
CREATED:20260306T095759Z
LAST-MODIFIED:20260306T175032Z
UID:40197-1773306900-1773306900@colegioefanor.pt
SUMMARY:"Os Guardiões da Natureza"
DESCRIPTION:Sala dos 4 Anos Adriana\, Cláudia e Nelsa – Ação de sensibilização ambiental aos alunos dos 4 anos em contexto de trabalho de projeto em inglês
URL:https://colegioefanor.pt/event/os-guardioes-da-natureza/
END:VEVENT
BEGIN:VEVENT
DTSTART;TZID=UTC:20260312T143000
DTEND;TZID=UTC:20260312T143000
DTSTAMP:20260421T220057
CREATED:20260306T100047Z
LAST-MODIFIED:20260306T175059Z
UID:40193-1773325800-1773325800@colegioefanor.pt
SUMMARY:Hora da Família: A Audição- Projeto "My Body"
DESCRIPTION:Sala dos 5 Anos da Catarina
URL:https://colegioefanor.pt/event/hora-da-familia-a-audicao-projeto-my-body/
END:VEVENT
BEGIN:VEVENT
DTSTART;VALUE=DATE:20260313
DTEND;VALUE=DATE:20260314
DTSTAMP:20260421T220057
CREATED:20260306T100252Z
LAST-MODIFIED:20260309T101209Z
UID:40423-1773363600-1773396000@colegioefanor.pt
SUMMARY:Competição de Matemática Naboj
DESCRIPTION:15 Alunos irão representar o Colégio Efanor na competição\, que irá decorrer no Técnico Innovation Center\, em Lisboa.
URL:https://colegioefanor.pt/event/competicao-de-matematica-naboj/
END:VEVENT
BEGIN:VEVENT
DTSTART;TZID=UTC:20260313T143000
DTEND;TZID=UTC:20260313T143000
DTSTAMP:20260421T220057
CREATED:20260306T100102Z
LAST-MODIFIED:20260306T175111Z
UID:40201-1773412200-1773412200@colegioefanor.pt
SUMMARY:Horas da Família: "Os livros contam histórias que são para partilhar"
DESCRIPTION:Sala dos 4 Anos da Adriana
URL:https://colegioefanor.pt/event/horas-da-familia-os-livros-contam-historias-que-sao-para-partilhar/
END:VEVENT
BEGIN:VEVENT
DTSTART;TZID=UTC:20260316T090000
DTEND;TZID=UTC:20260316T090000
DTSTAMP:20260421T220057
CREATED:20260306T100358Z
LAST-MODIFIED:20260310T092722Z
UID:39568-1773651600-1773651600@colegioefanor.pt
SUMMARY:Apresentação Pré-Escolar | Sala da Cláudia Patrícia Gonzalez
DESCRIPTION:Apresentação dos 4 Anos
URL:https://colegioefanor.pt/event/apresentacao-pre-escolar-claudia-patricia-gonzalez/
CATEGORIES:Featured
END:VEVENT
BEGIN:VEVENT
DTSTART;VALUE=DATE:20260318
DTEND;VALUE=DATE:20260319
DTSTAMP:20260421T220057
CREATED:20260306T100502Z
LAST-MODIFIED:20260306T175129Z
UID:39584-1773795600-1773828000@colegioefanor.pt
SUMMARY:Palestra com o Professor Doutor Sobrinho Simões
DESCRIPTION:Ensino Secundário
URL:https://colegioefanor.pt/event/palestra-com-o-professor-doutor-sobrinho-simoes/
END:VEVENT
BEGIN:VEVENT
DTSTART;VALUE=DATE:20260319
DTEND;VALUE=DATE:20260320
DTSTAMP:20260421T220057
CREATED:20260306T101049Z
LAST-MODIFIED:20260320T101630Z
UID:39590-1773882000-1773914400@colegioefanor.pt
SUMMARY:Concerto Rock Sinfónico
DESCRIPTION:
URL:https://colegioefanor.pt/event/concerto-rock-sinfonico/
END:VEVENT
BEGIN:VEVENT
DTSTART;TZID=UTC:20260319T093000
DTEND;TZID=UTC:20260319T093000
DTSTAMP:20260421T220057
CREATED:20260306T100734Z
LAST-MODIFIED:20260320T102319Z
UID:40888-1773912600-1773912600@colegioefanor.pt
SUMMARY:Galeria de Projeto: “Visita Teatral pela cidade do Porto”
DESCRIPTION:Sala dos 5 Anos da Diana
URL:https://colegioefanor.pt/event/galeria-de-projeto-visita-teatral-pela-cidade-do-porto/
END:VEVENT
BEGIN:VEVENT
DTSTART;TZID=UTC:20260319T093000
DTEND;TZID=UTC:20260319T093000
DTSTAMP:20260421T220057
CREATED:20260306T100833Z
LAST-MODIFIED:20260320T102309Z
UID:40892-1773912600-1773912600@colegioefanor.pt
SUMMARY:Educação Física no Parque das 7 Bicas
DESCRIPTION:Sala dos 3 Anos da Luísa
URL:https://colegioefanor.pt/event/educacao-fisica-no-parque-das-7-bicas/
END:VEVENT
BEGIN:VEVENT
DTSTART;TZID=UTC:20260319T093000
DTEND;TZID=UTC:20260319T093000
DTSTAMP:20260421T220057
CREATED:20260306T100938Z
LAST-MODIFIED:20260320T102254Z
UID:40896-1773912600-1773912600@colegioefanor.pt
SUMMARY:Visita ao Centro de Ciência Viva de Vila do Conde: "Exposição: A água no corpo - o sangue "
DESCRIPTION:Sala dos 5 Anos da Catarina
URL:https://colegioefanor.pt/event/visita-ao-centro-de-ciencia-viva-de-vila-do-conde-exposicao-a-agua-no-corpo-o-sangue/
END:VEVENT
BEGIN:VEVENT
DTSTART;VALUE=DATE:20260320
DTEND;VALUE=DATE:20260321
DTSTAMP:20260421T220057
CREATED:20260306T101553Z
LAST-MODIFIED:20260306T175202Z
UID:39594-1773968400-1774051199@colegioefanor.pt
SUMMARY:Dia da Inclusão
DESCRIPTION:
URL:https://colegioefanor.pt/event/dia-da-inclusao/
END:VEVENT
BEGIN:VEVENT
DTSTART;TZID=UTC:20260320T094500
DTEND;TZID=UTC:20260320T094500
DTSTAMP:20260421T220057
CREATED:20260306T101218Z
LAST-MODIFIED:20260318T144558Z
UID:40900-1773999900-1773999900@colegioefanor.pt
SUMMARY:Exploração da Mud Kitchen
DESCRIPTION:Salas dos 4 Anos da Adriana e dos 2 Anos da Patrícia
URL:https://colegioefanor.pt/event/exploracao-da-mud-kitchen/
END:VEVENT
BEGIN:VEVENT
DTSTART;TZID=UTC:20260320T143000
DTEND;TZID=UTC:20260320T143000
DTSTAMP:20260421T220057
CREATED:20260306T101323Z
LAST-MODIFIED:20260318T144735Z
UID:40904-1774017000-1774017000@colegioefanor.pt
SUMMARY:Hora da Família: "Os livros contam histórias que são para partilhar"
DESCRIPTION:Sala dos 4 Anos da Adriana
URL:https://colegioefanor.pt/event/hora-da-familia-os-livros-contam-historias-que-sao-para-partilhar/
END:VEVENT
BEGIN:VEVENT
DTSTART;VALUE=DATE:20260323
DTEND;VALUE=DATE:20260324
DTSTAMP:20260421T220057
CREATED:20260306T102051Z
LAST-MODIFIED:20260306T175221Z
UID:39602-1774227600-1774260000@colegioefanor.pt
SUMMARY:Apresentação Pré-Escolar | Sala da Marta Novais
DESCRIPTION:Apresentação dos 3 Anos
URL:https://colegioefanor.pt/event/apresentacao-pre-escolar-marta-novais/
END:VEVENT
BEGIN:VEVENT
DTSTART;VALUE=DATE:20260324
DTEND;VALUE=DATE:20260325
DTSTAMP:20260421T220057
CREATED:20260306T102530Z
LAST-MODIFIED:20260306T175238Z
UID:39580-1774314000-1774346400@colegioefanor.pt
SUMMARY:Apresentação Pré-Escolar | Sala da Nelsa Costa
DESCRIPTION:Apresentação dos 4 Anos
URL:https://colegioefanor.pt/event/apresentacao-pre-escolar-nelsa-costa/
END:VEVENT
BEGIN:VEVENT
DTSTART;VALUE=DATE:20260325
DTEND;VALUE=DATE:20260326
DTSTAMP:20260421T220057
CREATED:20260306T103014Z
LAST-MODIFIED:20260306T175254Z
UID:39608-1774400400-1774432800@colegioefanor.pt
SUMMARY:Apresentação Pré-Escolar | Sala da Sara Barbosa
DESCRIPTION:Apresentação dos 3 Anos.
URL:https://colegioefanor.pt/event/apresentacao-pre-escolar-sara-barbosa/
END:VEVENT
BEGIN:VEVENT
DTSTART;VALUE=DATE:20260325
DTEND;VALUE=DATE:20260326
DTSTAMP:20260421T220057
CREATED:20260306T103509Z
LAST-MODIFIED:20260306T175332Z
UID:39615-1774400400-1774432800@colegioefanor.pt
SUMMARY:Palestra Anjos e Demónios
DESCRIPTION:
URL:https://colegioefanor.pt/event/palestra-anjos-e-demonios/
END:VEVENT
BEGIN:VEVENT
DTSTART;VALUE=DATE:20260326
DTEND;VALUE=DATE:20260327
DTSTAMP:20260421T220057
CREATED:20260306T104055Z
LAST-MODIFIED:20260306T175357Z
UID:39622-1774486800-1774519200@colegioefanor.pt
SUMMARY:Apresentação Pré-Escolar | Sala da Sílvia Barreto
DESCRIPTION:Apresentação dos 5 Anos
URL:https://colegioefanor.pt/event/apresentacao-pre-escolar-silvia-barreto/
END:VEVENT
BEGIN:VEVENT
DTSTART;VALUE=DATE:20260415
DTEND;VALUE=DATE:20260416
DTSTAMP:20260421T220057
CREATED:20260306T105015Z
LAST-MODIFIED:20260306T180944Z
UID:39631-1776214800-1776297599@colegioefanor.pt
SUMMARY:Workshop PAE
DESCRIPTION:
URL:https://colegioefanor.pt/event/workshop-pae/
END:VEVENT
BEGIN:VEVENT
DTSTART;VALUE=DATE:20260417
DTEND;VALUE=DATE:20260418
DTSTAMP:20260421T220057
CREATED:20260306T105545Z
LAST-MODIFIED:20260306T175511Z
UID:39635-1776387600-1776470399@colegioefanor.pt
SUMMARY:Representação "Os Maias"
DESCRIPTION:
URL:https://colegioefanor.pt/event/representacao-os-maias/
END:VEVENT
BEGIN:VEVENT
DTSTART;VALUE=DATE:20260422
DTEND;VALUE=DATE:20260425
DTSTAMP:20260421T220057
CREATED:20260306T105604Z
LAST-MODIFIED:20260420T091711Z
UID:42199-1776819600-1776992399@colegioefanor.pt
SUMMARY:Participação no Júnior Market Porto – Faculdade de Economia da Universidade do Porto.
DESCRIPTION:Participação de duas equipas de alunos de 12.º ano
URL:https://colegioefanor.pt/event/participacao-no-junior-market-porto-faculdade-de-economia-da-universidade-do-porto/
END:VEVENT
BEGIN:VEVENT
DTSTART;VALUE=DATE:20260423
DTEND;VALUE=DATE:20260425
DTSTAMP:20260421T220057
CREATED:20260306T105632Z
LAST-MODIFIED:20260420T091605Z
UID:42195-1776906000-1776992399@colegioefanor.pt
SUMMARY:Visita de estudo à Palestra Ciência et al (i3S) - Infeção e Imunologia
DESCRIPTION:Alunos de Biologia do 12.º Ano
URL:https://colegioefanor.pt/event/visita-de-estudo-a-palestra-ciencia-et-al-i3s-infecao-e-imunologia/
END:VEVENT
BEGIN:VEVENT
DTSTART;VALUE=DATE:20260508
DTEND;VALUE=DATE:20260509
DTSTAMP:20260421T220057
CREATED:20260306T110034Z
LAST-MODIFIED:20260306T175521Z
UID:39639-1778202000-1778284799@colegioefanor.pt
SUMMARY:Sessão de Autor com a escritora Daniela Santiago sobre o livro "Leonor Ajuda o Planeta... e Tu?"
DESCRIPTION:
URL:https://colegioefanor.pt/event/sessao-de-autor-com-a-escritora-daniela-santiago-sobre-o-livro-leonor-ajuda-o-planeta-e-tu/
END:VEVENT
BEGIN:VEVENT
DTSTART;VALUE=DATE:20260515
DTEND;VALUE=DATE:20260517
DTSTAMP:20260421T220057
CREATED:20260306T110503Z
LAST-MODIFIED:20260306T175547Z
UID:38547-1778806800-1778893140@colegioefanor.pt
SUMMARY:Dia da Família
DESCRIPTION:Celebração do Dia da Família
URL:https://colegioefanor.pt/event/dia-da-familia/
CATEGORIES:Featured
END:VEVENT
END:VCALENDAR