BEGIN:VCALENDAR
VERSION:2.0
PRODID:-//Colégio Efanor - ECPv6.15.20//NONSGML v1.0//EN
CALSCALE:GREGORIAN
METHOD:PUBLISH
X-ORIGINAL-URL:https://colegioefanor.pt
X-WR-CALDESC:Eventos para Colégio Efanor
REFRESH-INTERVAL;VALUE=DURATION:PT1H
X-Robots-Tag:noindex
X-PUBLISHED-TTL:PT1H
BEGIN:VTIMEZONE
TZID:UTC
BEGIN:STANDARD
TZOFFSETFROM:+0000
TZOFFSETTO:+0000
TZNAME:UTC
DTSTART:20250101T000000
END:STANDARD
END:VTIMEZONE
BEGIN:VEVENT
DTSTART;VALUE=DATE:20260519
DTEND;VALUE=DATE:20260521
DTSTAMP:20260422T073932
CREATED:20260306T110706Z
LAST-MODIFIED:20260421T222025Z
UID:42304-1779152400-1779238799@colegioefanor.pt
SUMMARY:Visita de Estudo
DESCRIPTION:Alunos do 1.º Ano
URL:https://colegioefanor.pt/event/visita-de-estudo/
END:VEVENT
END:VCALENDAR