BEGIN:VCALENDAR
VERSION:2.0
PRODID:-//Colégio Efanor - ECPv6.15.20//NONSGML v1.0//EN
CALSCALE:GREGORIAN
METHOD:PUBLISH
X-ORIGINAL-URL:https://colegioefanor.pt
X-WR-CALDESC:Eventos para Colégio Efanor
REFRESH-INTERVAL;VALUE=DURATION:PT1H
X-Robots-Tag:noindex
X-PUBLISHED-TTL:PT1H
BEGIN:VTIMEZONE
TZID:UTC
BEGIN:STANDARD
TZOFFSETFROM:+0000
TZOFFSETTO:+0000
TZNAME:UTC
DTSTART:20250101T000000
END:STANDARD
END:VTIMEZONE
BEGIN:VEVENT
DTSTART;VALUE=DATE:20260319
DTEND;VALUE=DATE:20260320
DTSTAMP:20260421T181942
CREATED:20260306T101049Z
LAST-MODIFIED:20260320T101630Z
UID:39590-1773882000-1773914400@colegioefanor.pt
SUMMARY:Concerto Rock Sinfónico
DESCRIPTION:
URL:https://colegioefanor.pt/event/concerto-rock-sinfonico/
END:VEVENT
BEGIN:VEVENT
DTSTART;TZID=UTC:20260319T093000
DTEND;TZID=UTC:20260319T093000
DTSTAMP:20260421T181942
CREATED:20260306T100734Z
LAST-MODIFIED:20260320T102319Z
UID:40888-1773912600-1773912600@colegioefanor.pt
SUMMARY:Galeria de Projeto: “Visita Teatral pela cidade do Porto”
DESCRIPTION:Sala dos 5 Anos da Diana
URL:https://colegioefanor.pt/event/galeria-de-projeto-visita-teatral-pela-cidade-do-porto/
END:VEVENT
BEGIN:VEVENT
DTSTART;TZID=UTC:20260319T093000
DTEND;TZID=UTC:20260319T093000
DTSTAMP:20260421T181942
CREATED:20260306T100833Z
LAST-MODIFIED:20260320T102309Z
UID:40892-1773912600-1773912600@colegioefanor.pt
SUMMARY:Educação Física no Parque das 7 Bicas
DESCRIPTION:Sala dos 3 Anos da Luísa
URL:https://colegioefanor.pt/event/educacao-fisica-no-parque-das-7-bicas/
END:VEVENT
BEGIN:VEVENT
DTSTART;TZID=UTC:20260319T093000
DTEND;TZID=UTC:20260319T093000
DTSTAMP:20260421T181942
CREATED:20260306T100938Z
LAST-MODIFIED:20260320T102254Z
UID:40896-1773912600-1773912600@colegioefanor.pt
SUMMARY:Visita ao Centro de Ciência Viva de Vila do Conde: "Exposição: A água no corpo - o sangue "
DESCRIPTION:Sala dos 5 Anos da Catarina
URL:https://colegioefanor.pt/event/visita-ao-centro-de-ciencia-viva-de-vila-do-conde-exposicao-a-agua-no-corpo-o-sangue/
END:VEVENT
BEGIN:VEVENT
DTSTART;VALUE=DATE:20260320
DTEND;VALUE=DATE:20260321
DTSTAMP:20260421T181942
CREATED:20260306T101553Z
LAST-MODIFIED:20260306T175202Z
UID:39594-1773968400-1774051199@colegioefanor.pt
SUMMARY:Dia da Inclusão
DESCRIPTION:
URL:https://colegioefanor.pt/event/dia-da-inclusao/
END:VEVENT
END:VCALENDAR